BEGIN:VCALENDAR
VERSION:2.0
PRODID:-//Camp Still Meadows - ECPv6.15.20//NONSGML v1.0//EN
CALSCALE:GREGORIAN
METHOD:PUBLISH
X-ORIGINAL-URL:https://www.campstillmeadows.org
X-WR-CALDESC:Events for Camp Still Meadows
REFRESH-INTERVAL;VALUE=DURATION:PT1H
X-Robots-Tag:noindex
X-PUBLISHED-TTL:PT1H
BEGIN:VTIMEZONE
TZID:UTC
BEGIN:STANDARD
TZOFFSETFROM:+0000
TZOFFSETTO:+0000
TZNAME:UTC
DTSTART:20230101T000000
END:STANDARD
END:VTIMEZONE
BEGIN:VEVENT
DTSTART;TZID=UTC:20241012T083000
DTEND;TZID=UTC:20241012T170000
DTSTAMP:20260421T052300
CREATED:20240824T190835Z
LAST-MODIFIED:20240824T190835Z
UID:1632-1728721800-1728752400@www.campstillmeadows.org
SUMMARY:2024 Ride-a-thon
DESCRIPTION:
URL:https://www.campstillmeadows.org/calendar/2024-ride-a-thon/
LOCATION:River Hill Stables
END:VEVENT
END:VCALENDAR