BEGIN:VCALENDAR
VERSION:2.0
PRODID:-//Camp Still Meadows - ECPv6.15.20//NONSGML v1.0//EN
CALSCALE:GREGORIAN
METHOD:PUBLISH
X-ORIGINAL-URL:https://www.campstillmeadows.org
X-WR-CALDESC:Events for Camp Still Meadows
REFRESH-INTERVAL;VALUE=DURATION:PT1H
X-Robots-Tag:noindex
X-PUBLISHED-TTL:PT1H
BEGIN:VTIMEZONE
TZID:UTC
BEGIN:STANDARD
TZOFFSETFROM:+0000
TZOFFSETTO:+0000
TZNAME:UTC
DTSTART:20200101T000000
END:STANDARD
END:VTIMEZONE
BEGIN:VEVENT
DTSTART;TZID=UTC:20210802T083000
DTEND;TZID=UTC:20210802T113000
DTSTAMP:20260423T045104
CREATED:20210511T151839Z
LAST-MODIFIED:20210511T152021Z
UID:1049-1627893000-1627903800@www.campstillmeadows.org
SUMMARY:2021 Day Camp Session 3
DESCRIPTION:
URL:https://www.campstillmeadows.org/calendar/2021-day-camp-session-2-6/
END:VEVENT
BEGIN:VEVENT
DTSTART;TZID=UTC:20210803T083000
DTEND;TZID=UTC:20210803T113000
DTSTAMP:20260423T045104
CREATED:20210511T151854Z
LAST-MODIFIED:20210511T152011Z
UID:1051-1627979400-1627990200@www.campstillmeadows.org
SUMMARY:2021 Day Camp Session 3
DESCRIPTION:
URL:https://www.campstillmeadows.org/calendar/2021-day-camp-session-2-7/
END:VEVENT
BEGIN:VEVENT
DTSTART;TZID=UTC:20210803T190000
DTEND;TZID=UTC:20210803T200000
DTSTAMP:20260423T045104
CREATED:20210511T153118Z
LAST-MODIFIED:20210511T153235Z
UID:1081-1628017200-1628020800@www.campstillmeadows.org
SUMMARY:Therapeutic Riding Session 3
DESCRIPTION:
URL:https://www.campstillmeadows.org/calendar/therapeutic-riding-session-3-5/
END:VEVENT
BEGIN:VEVENT
DTSTART;TZID=UTC:20210804T083000
DTEND;TZID=UTC:20210804T113000
DTSTAMP:20260423T045104
CREATED:20210511T151910Z
LAST-MODIFIED:20210511T151959Z
UID:1053-1628065800-1628076600@www.campstillmeadows.org
SUMMARY:2021 Day Camp Session 3
DESCRIPTION:
URL:https://www.campstillmeadows.org/calendar/2021-day-camp-session-2-8/
END:VEVENT
BEGIN:VEVENT
DTSTART;TZID=UTC:20210805T083000
DTEND;TZID=UTC:20210805T113000
DTSTAMP:20260423T045104
CREATED:20210511T151924Z
LAST-MODIFIED:20210511T151930Z
UID:1055-1628152200-1628163000@www.campstillmeadows.org
SUMMARY:2021 Day Camp Session 3
DESCRIPTION:
URL:https://www.campstillmeadows.org/calendar/2021-day-camp-session-2-9/
END:VEVENT
BEGIN:VEVENT
DTSTART;TZID=UTC:20210806T083000
DTEND;TZID=UTC:20210806T113000
DTSTAMP:20260423T045104
CREATED:20210511T151945Z
LAST-MODIFIED:20210511T151945Z
UID:1058-1628238600-1628249400@www.campstillmeadows.org
SUMMARY:2021 Day Camp Session 3
DESCRIPTION:
URL:https://www.campstillmeadows.org/calendar/2021-day-camp-session-3/
END:VEVENT
BEGIN:VEVENT
DTSTART;TZID=UTC:20210817T190000
DTEND;TZID=UTC:20210817T200000
DTSTAMP:20260423T045104
CREATED:20210511T153206Z
LAST-MODIFIED:20210511T153206Z
UID:1083-1629226800-1629230400@www.campstillmeadows.org
SUMMARY:Therapeutic Riding Session 4
DESCRIPTION:
URL:https://www.campstillmeadows.org/calendar/therapeutic-riding-session-4/
END:VEVENT
BEGIN:VEVENT
DTSTART;TZID=UTC:20210824T190000
DTEND;TZID=UTC:20210824T200000
DTSTAMP:20260423T045104
CREATED:20210511T153829Z
LAST-MODIFIED:20210511T153829Z
UID:1085-1629831600-1629835200@www.campstillmeadows.org
SUMMARY:Therapeutic Riding Session 4
DESCRIPTION:
URL:https://www.campstillmeadows.org/calendar/therapeutic-riding-session-4-2/
END:VEVENT
BEGIN:VEVENT
DTSTART;TZID=UTC:20210831T190000
DTEND;TZID=UTC:20210831T200000
DTSTAMP:20260423T045104
CREATED:20210511T153855Z
LAST-MODIFIED:20210511T153855Z
UID:1086-1630436400-1630440000@www.campstillmeadows.org
SUMMARY:Therapeutic Riding Session 4
DESCRIPTION:
URL:https://www.campstillmeadows.org/calendar/therapeutic-riding-session-4-3/
END:VEVENT
END:VCALENDAR