BEGIN:VCALENDAR
VERSION:2.0
PRODID:-//Camp Still Meadows - ECPv6.15.20//NONSGML v1.0//EN
CALSCALE:GREGORIAN
METHOD:PUBLISH
X-WR-CALNAME:Camp Still Meadows
X-ORIGINAL-URL:https://www.campstillmeadows.org
X-WR-CALDESC:Events for Camp Still Meadows
REFRESH-INTERVAL;VALUE=DURATION:PT1H
X-Robots-Tag:noindex
X-PUBLISHED-TTL:PT1H
BEGIN:VTIMEZONE
TZID:UTC
BEGIN:STANDARD
TZOFFSETFROM:+0000
TZOFFSETTO:+0000
TZNAME:UTC
DTSTART:20200101T000000
END:STANDARD
END:VTIMEZONE
BEGIN:VEVENT
DTSTART;TZID=UTC:20210705T083000
DTEND;TZID=UTC:20210705T113000
DTSTAMP:20260423T055619
CREATED:20210511T144001Z
LAST-MODIFIED:20210511T144001Z
UID:1039-1625473800-1625484600@www.campstillmeadows.org
SUMMARY:2021 Day Camp Session 2
DESCRIPTION:
URL:https://www.campstillmeadows.org/calendar/2021-day-camp-session-2/
END:VEVENT
BEGIN:VEVENT
DTSTART;TZID=UTC:20210707T083000
DTEND;TZID=UTC:20210707T113000
DTSTAMP:20260423T055619
CREATED:20210511T144337Z
LAST-MODIFIED:20210511T144337Z
UID:1043-1625646600-1625657400@www.campstillmeadows.org
SUMMARY:2021 Day Camp Session 2
DESCRIPTION:
URL:https://www.campstillmeadows.org/calendar/2021-day-camp-session-2-3/
END:VEVENT
BEGIN:VEVENT
DTSTART;TZID=UTC:20210708T083000
DTEND;TZID=UTC:20210708T113000
DTSTAMP:20260423T055619
CREATED:20210511T144423Z
LAST-MODIFIED:20210511T144423Z
UID:1045-1625733000-1625743800@www.campstillmeadows.org
SUMMARY:2021 Day Camp Session 2
DESCRIPTION:
URL:https://www.campstillmeadows.org/calendar/2021-day-camp-session-2-4/
END:VEVENT
BEGIN:VEVENT
DTSTART;TZID=UTC:20210709T083000
DTEND;TZID=UTC:20210709T113000
DTSTAMP:20260423T055619
CREATED:20210511T144439Z
LAST-MODIFIED:20210511T144439Z
UID:1047-1625819400-1625830200@www.campstillmeadows.org
SUMMARY:2021 Day Camp Session 2
DESCRIPTION:
URL:https://www.campstillmeadows.org/calendar/2021-day-camp-session-2-5/
END:VEVENT
BEGIN:VEVENT
DTSTART;TZID=UTC:20210713T190000
DTEND;TZID=UTC:20210713T200000
DTSTAMP:20260423T055619
CREATED:20210511T153021Z
LAST-MODIFIED:20210511T153411Z
UID:1075-1626202800-1626206400@www.campstillmeadows.org
SUMMARY:Therapeutic Riding Session 3
DESCRIPTION:
URL:https://www.campstillmeadows.org/calendar/therapeutic-riding-session-3-2/
END:VEVENT
BEGIN:VEVENT
DTSTART;TZID=UTC:20210720T190000
DTEND;TZID=UTC:20210720T200000
DTSTAMP:20260423T055619
CREATED:20210511T153040Z
LAST-MODIFIED:20210511T153348Z
UID:1077-1626807600-1626811200@www.campstillmeadows.org
SUMMARY:Therapeutic Riding Session 3
DESCRIPTION:
URL:https://www.campstillmeadows.org/calendar/therapeutic-riding-session-3-3/
END:VEVENT
BEGIN:VEVENT
DTSTART;TZID=UTC:20210727T190000
DTEND;TZID=UTC:20210727T200000
DTSTAMP:20260423T055619
CREATED:20210511T153058Z
LAST-MODIFIED:20210511T153311Z
UID:1079-1627412400-1627416000@www.campstillmeadows.org
SUMMARY:Therapeutic Riding Session 3
DESCRIPTION:
URL:https://www.campstillmeadows.org/calendar/therapeutic-riding-session-3-4/
END:VEVENT
END:VCALENDAR