BEGIN:VCALENDAR
VERSION:2.0
PRODID:-//Camp Still Meadows - ECPv6.15.20//NONSGML v1.0//EN
CALSCALE:GREGORIAN
METHOD:PUBLISH
X-ORIGINAL-URL:https://www.campstillmeadows.org
X-WR-CALDESC:Events for Camp Still Meadows
REFRESH-INTERVAL;VALUE=DURATION:PT1H
X-Robots-Tag:noindex
X-PUBLISHED-TTL:PT1H
BEGIN:VTIMEZONE
TZID:UTC
BEGIN:STANDARD
TZOFFSETFROM:+0000
TZOFFSETTO:+0000
TZNAME:UTC
DTSTART:20200101T000000
END:STANDARD
END:VTIMEZONE
BEGIN:VEVENT
DTSTART;TZID=UTC:20210601T190000
DTEND;TZID=UTC:20210601T200000
DTSTAMP:20260423T071039
CREATED:20210511T152818Z
LAST-MODIFIED:20210511T153706Z
UID:1065-1622574000-1622577600@www.campstillmeadows.org
SUMMARY:Therapeutic Riding Session 2
DESCRIPTION:
URL:https://www.campstillmeadows.org/calendar/therapeutic-riding-session-2/
END:VEVENT
BEGIN:VEVENT
DTSTART;TZID=UTC:20210602T190000
DTEND;TZID=UTC:20210602T200000
DTSTAMP:20260423T071039
CREATED:20200331T210843Z
LAST-MODIFIED:20210511T154304Z
UID:538-1622660400-1622664000@www.campstillmeadows.org
SUMMARY:Board of Directors Meeting
DESCRIPTION:
URL:https://www.campstillmeadows.org/calendar/board-of-directors-meeting-8/
END:VEVENT
BEGIN:VEVENT
DTSTART;TZID=UTC:20210608T190000
DTEND;TZID=UTC:20210608T200000
DTSTAMP:20260423T071039
CREATED:20210511T152840Z
LAST-MODIFIED:20210511T153640Z
UID:1067-1623178800-1623182400@www.campstillmeadows.org
SUMMARY:Therapeutic Riding Session 2
DESCRIPTION:
URL:https://www.campstillmeadows.org/calendar/therapeutic-riding-session-2-2/
END:VEVENT
BEGIN:VEVENT
DTSTART;TZID=UTC:20210614T083000
DTEND;TZID=UTC:20210614T113000
DTSTAMP:20260423T071039
CREATED:20210511T143024Z
LAST-MODIFIED:20210511T143024Z
UID:1027-1623659400-1623670200@www.campstillmeadows.org
SUMMARY:2021 Day Camp Session 1
DESCRIPTION:
URL:https://www.campstillmeadows.org/calendar/2021-day-camp-session-1/
END:VEVENT
BEGIN:VEVENT
DTSTART;TZID=UTC:20210615T083000
DTEND;TZID=UTC:20210615T113000
DTSTAMP:20260423T071039
CREATED:20210511T143053Z
LAST-MODIFIED:20210511T143053Z
UID:1029-1623745800-1623756600@www.campstillmeadows.org
SUMMARY:2021 Day Camp Session 1
DESCRIPTION:
URL:https://www.campstillmeadows.org/calendar/2021-day-camp-session-1-2/
END:VEVENT
BEGIN:VEVENT
DTSTART;TZID=UTC:20210615T190000
DTEND;TZID=UTC:20210615T200000
DTSTAMP:20260423T071039
CREATED:20210511T152857Z
LAST-MODIFIED:20210511T153608Z
UID:1069-1623783600-1623787200@www.campstillmeadows.org
SUMMARY:Therapeutic Riding Session 2
DESCRIPTION:
URL:https://www.campstillmeadows.org/calendar/therapeutic-riding-session-2-3/
END:VEVENT
BEGIN:VEVENT
DTSTART;TZID=UTC:20210616T083000
DTEND;TZID=UTC:20210616T113000
DTSTAMP:20260423T071039
CREATED:20210511T143114Z
LAST-MODIFIED:20210511T143114Z
UID:1031-1623832200-1623843000@www.campstillmeadows.org
SUMMARY:2021 Day Camp Session 1
DESCRIPTION:
URL:https://www.campstillmeadows.org/calendar/2021-day-camp-session-1-3/
END:VEVENT
BEGIN:VEVENT
DTSTART;TZID=UTC:20210617T083000
DTEND;TZID=UTC:20210617T113000
DTSTAMP:20260423T071039
CREATED:20210511T143355Z
LAST-MODIFIED:20210511T143355Z
UID:1035-1623918600-1623929400@www.campstillmeadows.org
SUMMARY:2021 Day Camp Session 1
DESCRIPTION:
URL:https://www.campstillmeadows.org/calendar/2021-day-camp-session-1-4/
END:VEVENT
BEGIN:VEVENT
DTSTART;TZID=UTC:20210618T083000
DTEND;TZID=UTC:20210618T113000
DTSTAMP:20260423T071039
CREATED:20210511T143428Z
LAST-MODIFIED:20210511T143428Z
UID:1037-1624005000-1624015800@www.campstillmeadows.org
SUMMARY:2021 Day Camp Session 1
DESCRIPTION:
URL:https://www.campstillmeadows.org/calendar/2021-day-camp-session-1-5/
END:VEVENT
BEGIN:VEVENT
DTSTART;TZID=UTC:20210622T190000
DTEND;TZID=UTC:20210622T200000
DTSTAMP:20260423T071039
CREATED:20210511T152913Z
LAST-MODIFIED:20210511T153511Z
UID:1071-1624388400-1624392000@www.campstillmeadows.org
SUMMARY:Therapeutic Riding Session 2
DESCRIPTION:
URL:https://www.campstillmeadows.org/calendar/therapeutic-riding-session-2-4/
END:VEVENT
BEGIN:VEVENT
DTSTART;TZID=UTC:20210626T173000
DTEND;TZID=UTC:20210626T203000
DTSTAMP:20260423T071039
CREATED:20210511T141638Z
LAST-MODIFIED:20210511T141638Z
UID:1020-1624728600-1624739400@www.campstillmeadows.org
SUMMARY:18th Annual Longaberger Basket Bingo
DESCRIPTION:
URL:https://www.campstillmeadows.org/calendar/18th-annual-longaberger-basket-bingo/
LOCATION:Woodmen of the World\, 3045 John Wayland Highway\, Dayton\, VA\, 22821\, United States
END:VEVENT
END:VCALENDAR