BEGIN:VCALENDAR
VERSION:2.0
PRODID:-//Camp Still Meadows - ECPv6.15.20//NONSGML v1.0//EN
CALSCALE:GREGORIAN
METHOD:PUBLISH
X-WR-CALNAME:Camp Still Meadows
X-ORIGINAL-URL:https://www.campstillmeadows.org
X-WR-CALDESC:Events for Camp Still Meadows
REFRESH-INTERVAL;VALUE=DURATION:PT1H
X-Robots-Tag:noindex
X-PUBLISHED-TTL:PT1H
BEGIN:VTIMEZONE
TZID:UTC
BEGIN:STANDARD
TZOFFSETFROM:+0000
TZOFFSETTO:+0000
TZNAME:UTC
DTSTART:20220101T000000
END:STANDARD
END:VTIMEZONE
BEGIN:VEVENT
DTSTART;TZID=UTC:20231104T083000
DTEND;TZID=UTC:20231104T160000
DTSTAMP:20260421T221742
CREATED:20230821T155610Z
LAST-MODIFIED:20230828T172556Z
UID:1432-1699086600-1699113600@www.campstillmeadows.org
SUMMARY:2023 Ride-A-Thon
DESCRIPTION:Please join us for a fundraising event set for Saturday November 4th at River Hill Stables! \n\nGates open at 8:30am\nCheck in at 9:00am\n\nPlease join us for a free will continental breakfast and lunch
URL:https://www.campstillmeadows.org/calendar/2023-ride-a-thon/
LOCATION:River Hill Stables
END:VEVENT
END:VCALENDAR