BEGIN:VCALENDAR
VERSION:2.0
PRODID:-//Camp Still Meadows - ECPv6.15.20//NONSGML v1.0//EN
CALSCALE:GREGORIAN
METHOD:PUBLISH
X-ORIGINAL-URL:https://www.campstillmeadows.org
X-WR-CALDESC:Events for Camp Still Meadows
REFRESH-INTERVAL;VALUE=DURATION:PT1H
X-Robots-Tag:noindex
X-PUBLISHED-TTL:PT1H
BEGIN:VTIMEZONE
TZID:UTC
BEGIN:STANDARD
TZOFFSETFROM:+0000
TZOFFSETTO:+0000
TZNAME:UTC
DTSTART:20200101T000000
END:STANDARD
END:VTIMEZONE
BEGIN:VEVENT
DTSTART;TZID=UTC:20210803T083000
DTEND;TZID=UTC:20210803T113000
DTSTAMP:20260423T055618
CREATED:20210511T151854Z
LAST-MODIFIED:20210511T152011Z
UID:1051-1627979400-1627990200@www.campstillmeadows.org
SUMMARY:2021 Day Camp Session 3
DESCRIPTION:
URL:https://www.campstillmeadows.org/calendar/2021-day-camp-session-2-7/
END:VEVENT
BEGIN:VEVENT
DTSTART;TZID=UTC:20210803T190000
DTEND;TZID=UTC:20210803T200000
DTSTAMP:20260423T055618
CREATED:20210511T153118Z
LAST-MODIFIED:20210511T153235Z
UID:1081-1628017200-1628020800@www.campstillmeadows.org
SUMMARY:Therapeutic Riding Session 3
DESCRIPTION:
URL:https://www.campstillmeadows.org/calendar/therapeutic-riding-session-3-5/
END:VEVENT
END:VCALENDAR