BEGIN:VCALENDAR
VERSION:2.0
PRODID:-//Camp Still Meadows - ECPv6.15.20//NONSGML v1.0//EN
CALSCALE:GREGORIAN
METHOD:PUBLISH
X-ORIGINAL-URL:https://www.campstillmeadows.org
X-WR-CALDESC:Events for Camp Still Meadows
REFRESH-INTERVAL;VALUE=DURATION:PT1H
X-Robots-Tag:noindex
X-PUBLISHED-TTL:PT1H
BEGIN:VTIMEZONE
TZID:UTC
BEGIN:STANDARD
TZOFFSETFROM:+0000
TZOFFSETTO:+0000
TZNAME:UTC
DTSTART:20200101T000000
END:STANDARD
END:VTIMEZONE
BEGIN:VEVENT
DTSTART;TZID=UTC:20210615T083000
DTEND;TZID=UTC:20210615T113000
DTSTAMP:20260423T081740
CREATED:20210511T143053Z
LAST-MODIFIED:20210511T143053Z
UID:1029-1623745800-1623756600@www.campstillmeadows.org
SUMMARY:2021 Day Camp Session 1
DESCRIPTION:
URL:https://www.campstillmeadows.org/calendar/2021-day-camp-session-1-2/
END:VEVENT
BEGIN:VEVENT
DTSTART;TZID=UTC:20210615T190000
DTEND;TZID=UTC:20210615T200000
DTSTAMP:20260423T081740
CREATED:20210511T152857Z
LAST-MODIFIED:20210511T153608Z
UID:1069-1623783600-1623787200@www.campstillmeadows.org
SUMMARY:Therapeutic Riding Session 2
DESCRIPTION:
URL:https://www.campstillmeadows.org/calendar/therapeutic-riding-session-2-3/
END:VEVENT
END:VCALENDAR